{"text_format":"1","workbook":"xlsx","n_sheets":5,"sheets":["日历视图","员工休假跟踪表","员工名单","休假类型","公司假期"],"not_rendered":{"charts":0,"images":0,"macros":0,"external_links":1,"defined_names":17,"comments":0,"pivot_tables":0},"unopened":[],"bounds":{"document_bytes":16777216,"sheet_cells":100000,"rows_first":2000,"rows_last":500,"rows_between":2000,"halvings":0,"cell_chars":16384,"cell_head_chars":4096},"cells_cut":0,"cells_raw":0,"read":"whole","date_system":"1900"}

{"sheet":"日历视图","index":0,"n_rows":22,"n_cols":44,"rows_kept":22,"cut":false,"hidden":false,"merged":[[1,2,1,8],[2,2,2,8],[21,2,21,4],[21,13,21,15],[21,18,21,20],[18,2,18,4],[19,2,19,4],[20,2,20,4],[20,18,20,20],[18,7,18,10],[19,7,19,10],[20,7,20,10],[21,7,21,10],[20,13,20,15],[18,13,18,15],[18,18,18,20],[19,13,19,15],[19,18,19,20],[20,28,20,30],[21,28,21,30],[18,28,18,30],[19,28,19,30],[18,23,18,25],[19,23,19,25],[20,23,20,25],[21,23,21,25]]}
[null,"员工考勤记录"]
[null,"选择员工：","员工 1"]
[null,"输入年份：",{"$f":"YEAR(TODAY())","v":2017}]
[]
[null,"星期几/月","日","一","二","三","四","五","六","日   ","一   ","二   ","三   ","四   ","五   ","六   ","日    ","一    ","二    ","三    ","四    ","五    ","六    ","日     ","一     ","二     ","三     ","四  ","五     ","六     ","日 ","一 ","二 ","三 ","四 ","五 ","六 ","日  ","一  ","二  ","三  ","四        ","五  ","六  "]
[null,"1 月",{"$f":"IFERROR(IF(TEXT(DATE(Calendar_Year,ROW($A1),1),\"aaa\")=LEFT(C$5,3),DATE(Calendar_Year,ROW($A1),1),\"\"),\"\")","v":"2017-01-01"},{"$f":"IFERROR(IF(TEXT(DATE(Calendar_Year,ROW($A1),1),\"aaa\")=LEFT(D$5,3),DATE(Calendar_Year,ROW($A1),1),IF(C6>=1,C6+1,\"\")),\"\")","v":"2017-01-02"},"2017-01-03","2017-01-04","2017-01-05","2017-01-06","2017-01-07",{"$f":"IFERROR(IF(I6>=1,I6+1,\"\"),\"\")","v":"2017-01-08"},{"$f":"IFERROR(IF(J6>=1,J6+1,\"\"),\"\")","v":"2017-01-09"},{"$f":"IFERROR(IF(K6>=1,K6+1,\"\"),\"\")","v":"2017-01-10"},{"$f":"IFERROR(IF(L6>=1,L6+1,\"\"),\"\")","v":"2017-01-11"},{"$f":"IFERROR(IF(M6>=1,M6+1,\"\"),\"\")","v":"2017-01-12"},{"$f":"IFERROR(IF(N6>=1,N6+1,\"\"),\"\")","v":"2017-01-13"},{"$f":"IFERROR(IF(O6>=1,O6+1,\"\"),\"\")","v":"2017-01-14"},{"$f":"IFERROR(IF(P6>=1,P6+1,\"\"),\"\")","v":"2017-01-15"},{"$f":"IFERROR(IF(Q6>=1,Q6+1,\"\"),\"\")","v":"2017-01-16"},{"$f":"IFERROR(IF(R6>=1,R6+1,\"\"),\"\")","v":"2017-01-17"},{"$f":"IFERROR(IF(S6>=1,S6+1,\"\"),\"\")","v":"2017-01-18"},{"$f":"IFERROR(IF(T6>=1,T6+1,\"\"),\"\")","v":"2017-01-19"},{"$f":"IFERROR(IF(U6>=1,U6+1,\"\"),\"\")","v":"2017-01-20"},{"$f":"IFERROR(IF(V6>=1,V6+1,\"\"),\"\")","v":"2017-01-21"},{"$f":"IFERROR(IF(W6>=1,W6+1,\"\"),\"\")","v":"2017-01-22"},{"$f":"IFERROR(IF(X6>=1,X6+1,\"\"),\"\")","v":"2017-01-23"},{"$f":"IFERROR(IF(Y6>=1,Y6+1,\"\"),\"\")","v":"2017-01-24"},{"$f":"IFERROR(IF(Z6>=1,Z6+1,\"\"),\"\")","v":"2017-01-25"},{"$f":"IFERROR(IF(AA6>=1,AA6+1,\"\"),\"\")","v":"2017-01-26"},{"$f":"IFERROR(IF(AB6>=1,AB6+1,\"\"),\"\")","v":"2017-01-27"},{"$f":"IFERROR(IF(AC6>=1,AC6+1,\"\"),\"\")","v":"2017-01-28"},{"$f":"IFERROR(IF(AD6>=1,AD6+1,\"\"),\"\")","v":"2017-01-29"},{"$f":"IFERROR(IF(AE6>=1,AE6+1,\"\"),\"\")","v":"2017-01-30"},{"$f":"IFERROR(IF(AF6>=1,AF6+1,\"\"),\"\")","v":"2017-01-31"},{"$f":"IFERROR(IF(AG6>=1,AG6+1,\"\"),\"\")","v":"2017-02-01"},{"$f":"IFERROR(IF(AH6>=1,AH6+1,\"\"),\"\")","v":"2017-02-02"},{"$f":"IFERROR(IF(AI6>=1,AI6+1,\"\"),\"\")","v":"2017-02-03"},{"$f":"IFERROR(IF(AJ6>=1,AJ6+1,\"\"),\"\")","v":"2017-02-04"},{"$f":"IFERROR(IF(AND(AK6>=1,AK6+1<=DATE(Calendar_Year,ROW($A1)+1,0)),AK6+1,\"\"),\"\")","v":""},"","","","","",""]
[null,"2 月","","","","2017-02-01","2017-02-02","2017-02-03","2017-02-04","2017-02-05","2017-02-06","2017-02-07","2017-02-08","2017-02-09","2017-02-10","2017-02-11","2017-02-12","2017-02-13","2017-02-14","2017-02-15","2017-02-16","2017-02-17","2017-02-18","2017-02-19","2017-02-20","2017-02-21","2017-02-22","2017-02-23","2017-02-24","2017-02-25","2017-02-26","2017-02-27","2017-02-28","2017-03-01","2017-03-02","2017-03-03","2017-03-04","","","","","","",""]
[null,"3 月","","","","2017-03-01","2017-03-02","2017-03-03","2017-03-04","2017-03-05","2017-03-06","2017-03-07","2017-03-08","2017-03-09","2017-03-10","2017-03-11","2017-03-12","2017-03-13","2017-03-14","2017-03-15","2017-03-16","2017-03-17","2017-03-18","2017-03-19","2017-03-20","2017-03-21","2017-03-22","2017-03-23","2017-03-24","2017-03-25","2017-03-26","2017-03-27","2017-03-28","2017-03-29","2017-03-30","2017-03-31","2017-04-01","","","","","","",""]
[null,"4 月","","","","","","","2017-04-01","2017-04-02","2017-04-03","2017-04-04","2017-04-05","2017-04-06","2017-04-07","2017-04-08","2017-04-09","2017-04-10","2017-04-11","2017-04-12","2017-04-13","2017-04-14","2017-04-15","2017-04-16","2017-04-17","2017-04-18","2017-04-19","2017-04-20","2017-04-21","2017-04-22","2017-04-23","2017-04-24","2017-04-25","2017-04-26","2017-04-27","2017-04-28","2017-04-29","2017-04-30","","","","","",""]
[null,"5 月","","2017-05-01","2017-05-02","2017-05-03","2017-05-04","2017-05-05","2017-05-06","2017-05-07","2017-05-08","2017-05-09","2017-05-10","2017-05-11","2017-05-12","2017-05-13","2017-05-14","2017-05-15","2017-05-16","2017-05-17","2017-05-18","2017-05-19","2017-05-20","2017-05-21","2017-05-22","2017-05-23","2017-05-24","2017-05-25","2017-05-26","2017-05-27","2017-05-28","2017-05-29","2017-05-30","2017-05-31","2017-06-01","2017-06-02","2017-06-03","","","","","","",""]
[null,"6 月","","","","","2017-06-01","2017-06-02","2017-06-03","2017-06-04","2017-06-05","2017-06-06","2017-06-07","2017-06-08","2017-06-09","2017-06-10","2017-06-11","2017-06-12","2017-06-13","2017-06-14","2017-06-15","2017-06-16","2017-06-17","2017-06-18","2017-06-19","2017-06-20","2017-06-21","2017-06-22","2017-06-23","2017-06-24","2017-06-25","2017-06-26","2017-06-27","2017-06-28","2017-06-29","2017-06-30","2017-07-01","","","","","","",""]
[null,"7 月","","","","","","","2017-07-01","2017-07-02","2017-07-03","2017-07-04","2017-07-05","2017-07-06","2017-07-07","2017-07-08","2017-07-09","2017-07-10","2017-07-11","2017-07-12","2017-07-13","2017-07-14","2017-07-15","2017-07-16","2017-07-17","2017-07-18","2017-07-19","2017-07-20","2017-07-21","2017-07-22","2017-07-23","2017-07-24","2017-07-25","2017-07-26","2017-07-27","2017-07-28","2017-07-29","2017-07-30","2017-07-31","","","","",""]
[null,"8 月","","","2017-08-01","2017-08-02","2017-08-03","2017-08-04","2017-08-05","2017-08-06","2017-08-07","2017-08-08","2017-08-09","2017-08-10","2017-08-11","2017-08-12","2017-08-13","2017-08-14","2017-08-15","2017-08-16","2017-08-17","2017-08-18","2017-08-19","2017-08-20","2017-08-21","2017-08-22","2017-08-23","2017-08-24","2017-08-25","2017-08-26","2017-08-27","2017-08-28","2017-08-29","2017-08-30","2017-08-31","2017-09-01","2017-09-02","","","","","","",""]
[null,"9 月","","","","","","2017-09-01","2017-09-02","2017-09-03","2017-09-04","2017-09-05","2017-09-06","2017-09-07","2017-09-08","2017-09-09","2017-09-10","2017-09-11","2017-09-12","2017-09-13","2017-09-14","2017-09-15","2017-09-16","2017-09-17","2017-09-18","2017-09-19","2017-09-20","2017-09-21","2017-09-22","2017-09-23","2017-09-24","2017-09-25","2017-09-26","2017-09-27","2017-09-28","2017-09-29","2017-09-30","","","","","","",""]
[null,"10 月","2017-10-01","2017-10-02","2017-10-03","2017-10-04","2017-10-05","2017-10-06","2017-10-07","2017-10-08","2017-10-09","2017-10-10","2017-10-11","2017-10-12","2017-10-13","2017-10-14","2017-10-15","2017-10-16","2017-10-17","2017-10-18","2017-10-19","2017-10-20","2017-10-21","2017-10-22","2017-10-23","2017-10-24","2017-10-25","2017-10-26","2017-10-27","2017-10-28","2017-10-29","2017-10-30","2017-10-31","2017-11-01","2017-11-02","2017-11-03","2017-11-04","","","","","","",""]
[null,"11 月","","","","2017-11-01","2017-11-02","2017-11-03","2017-11-04","2017-11-05","2017-11-06","2017-11-07","2017-11-08","2017-11-09","2017-11-10","2017-11-11","2017-11-12","2017-11-13","2017-11-14","2017-11-15","2017-11-16","2017-11-17","2017-11-18","2017-11-19","2017-11-20","2017-11-21","2017-11-22","2017-11-23","2017-11-24","2017-11-25","2017-11-26","2017-11-27","2017-11-28","2017-11-29","2017-11-30","2017-12-01","2017-12-02","","","","","","",""]
[null,"12 月",{"$f":"IFERROR(IF(TEXT(DATE(Calendar_Year,ROW($A12),1),\"aaa\")=LEFT(C$5,3),DATE(Calendar_Year,ROW($A12),1),\"\"),\"\")","v":""},{"$f":"IFERROR(IF(TEXT(DATE(Calendar_Year,ROW($A12),1),\"aaa\")=LEFT(D$5,3),DATE(Calendar_Year,ROW($A12),1),IF(C17>=1,C17+1,\"\")),\"\")","v":""},"","","","2017-12-01","2017-12-02","2017-12-03","2017-12-04","2017-12-05","2017-12-06","2017-12-07","2017-12-08","2017-12-09","2017-12-10","2017-12-11","2017-12-12","2017-12-13","2017-12-14","2017-12-15","2017-12-16","2017-12-17","2017-12-18","2017-12-19","2017-12-20","2017-12-21","2017-12-22","2017-12-23","2017-12-24","2017-12-25","2017-12-26","2017-12-27","2017-12-28","2017-12-29","2017-12-30",{"$f":"IFERROR(IF(AND(AK17>=1,AK17+1<=DATE(Calendar_Year,ROW($A12)+1,0)),AK17+1,\"\"),\"\")","v":"2017-12-31"},"","","","","",""]
[null,"主要统计信息"]
[null,null,"休假天数",null,null,null,null,"工作天数",null,null,null,null,null,"病假天数",null,null,null,null,"假期",null,null,null,null,"丧假",null,null,null,null,"其他"]
[null,null,{"$f":"SUMIFS(LeaveTracker[天数],LeaveTracker[员工姓名],valSelEmployee,LeaveTracker[开始日期],\">=\"&DATE(Calendar_Year,1,1),LeaveTracker[结束日期],\"<\"&DATE(Calendar_Year+1,1,1))","v":4},null,null,null,null,{"$f":"NETWORKDAYS(DATE(Calendar_Year,1,1),EDATE(DATE(Calendar_Year,1,1),12)-1)","v":260},null,null,null,null,null,{"$f":"SUMIFS(LeaveTracker[天数],LeaveTracker[员工姓名],valSelEmployee,LeaveTracker[开始日期],\">=\"&DATE(Calendar_Year,1,1),LeaveTracker[结束日期],\"<\"&DATE(Calendar_Year+1,1,1),LeaveTracker[休假类型],休假类型!B4)","v":1},null,null,null,null,{"$f":"SUMIFS(LeaveTracker[天数],LeaveTracker[员工姓名],valSelEmployee,LeaveTracker[开始日期],\">=\"&DATE(Calendar_Year,1,1),LeaveTracker[结束日期],\"<\"&DATE(Calendar_Year+1,1,1),LeaveTracker[休假类型],休假类型!B5)","v":0},null,null,null,null,{"$f":"SUMIFS(LeaveTracker[天数],LeaveTracker[员工姓名],valSelEmployee,LeaveTracker[开始日期],\">=\"&DATE(Calendar_Year,1,1),LeaveTracker[结束日期],\"<\"&DATE(Calendar_Year+1,1,1),LeaveTracker[休假类型],休假类型!B6)","v":3},null,null,null,null,{"$f":"SUMIFS(LeaveTracker[天数],LeaveTracker[员工姓名],valSelEmployee,LeaveTracker[开始日期],\">=\"&DATE(Calendar_Year,1,1),LeaveTracker[结束日期],\"<\"&DATE(Calendar_Year+1,1,1),LeaveTracker[休假类型],休假类型!B7)","v":0}]
[null,null,{"$f":"SUMIFS(LeaveTracker[天数],LeaveTracker[员工姓名],valSelEmployee,LeaveTracker[开始日期],\">=\"&DATE(Calendar_Year-1,1,1),LeaveTracker[结束日期],\"<\"&DATE(Calendar_Year,1,1))","v":14},null,null,null,null,{"$f":"NETWORKDAYS(DATE(Calendar_Year-1,1,1),EDATE(DATE(Calendar_Year-1,1,1),12)-1)","v":261},null,null,null,null,null,{"$f":"SUMIFS(LeaveTracker[天数],LeaveTracker[员工姓名],valSelEmployee,LeaveTracker[开始日期],\">=\"&DATE(Calendar_Year-1,1,1),LeaveTracker[结束日期],\"<\"&DATE(Calendar_Year,1,1),LeaveTracker[休假类型],休假类型!B4)","v":4},null,null,null,null,{"$f":"SUMIFS(LeaveTracker[天数],LeaveTracker[员工姓名],valSelEmployee,LeaveTracker[开始日期],\">=\"&DATE(Calendar_Year-1,1,1),LeaveTracker[结束日期],\"<\"&DATE(Calendar_Year,1,1),LeaveTracker[休假类型],休假类型!B5)","v":8},null,null,null,null,{"$f":"SUMIFS(LeaveTracker[天数],LeaveTracker[员工姓名],valSelEmployee,LeaveTracker[开始日期],\">=\"&DATE(Calendar_Year-1,1,1),LeaveTracker[结束日期],\"<\"&DATE(Calendar_Year,1,1),LeaveTracker[休假类型],休假类型!B6)","v":0},null,null,null,null,{"$f":"SUMIFS(LeaveTracker[天数],LeaveTracker[员工姓名],valSelEmployee,LeaveTracker[开始日期],\">=\"&DATE(Calendar_Year-1,1,1),LeaveTracker[结束日期],\"<\"&DATE(Calendar_Year,1,1),LeaveTracker[休假类型],休假类型!B7)","v":2}]
[null,null,{"$f":"IFERROR(IF(C21<>0,IF(C20>=C21,\"增加 \", \"减少 \")&TEXT(C20/C21-1,\"0%;0%\"),\"增加 100%\"),\"\")","v":"减少 71%"},null,null,null,null,{"$f":"IFERROR(IF(H21<>0,IF(H20>=H21,\"增加 \", \"减少 \")&TEXT(H20/H21-1,\"0%;0%\"),\"增加 100%\"),\"\")","v":"减少 0%"},null,null,null,null,null,{"$f":"IFERROR(IF(N21<>0,IF(N20>=N21,\"增加 \", \"减少 \")&TEXT(N20/N21-1,\"0%;0%\"),\"增加 100%\"),\"\")","v":"减少 75%"},null,null,null,null,{"$f":"IFERROR(IF(S21<>0,IF(S20>=S21,\"增加 \", \"减少 \")&TEXT(S20/S21-1,\"0%;0%\"),\"增加 100%\"),\"\")","v":"减少 100%"},null,null,null,null,{"$f":"IFERROR(IF(X21<>0,IF(X20>=X21,\"增加 \", \"减少 \")&TEXT(X20/X21-1,\"0%;0%\"),\"增加 100%\"),\"\")","v":"增加 100%"},null,null,null,null,{"$f":"IFERROR(IF(AC21<>0,IF(AC20>=AC21,\"增加 \", \"减少 \")&TEXT(AC20/AC21-1,\"0%;0%\"),\"增加 100%\"),\"\")","v":"减少 100%"}]

{"sheet":"员工休假跟踪表","index":1,"n_rows":26,"n_cols":6,"rows_kept":26,"cut":false,"hidden":false,"merged":[]}
[null,"员工休假跟踪表"]
[]
[null,"员工姓名","开始日期","结束日期","休假类型","天数"]
[null,"员工 1",{"$f":"DATE(YEAR(TODAY()),1,3)","v":"2017-01-03"},{"$f":"DATE(YEAR(TODAY()),1,3)","v":"2017-01-03"},"病假",{"$f":"NETWORKDAYS(LeaveTracker[[#This Row],[开始日期]],LeaveTracker[[#This Row],[结束日期]],lstHolidays)","v":1}]
[null,"员工 2",{"$f":"DATE(YEAR(TODAY()),1,17)","v":"2017-01-17"},{"$f":"DATE(YEAR(TODAY()),1,18)","v":"2017-01-18"},"其他",{"$f":"NETWORKDAYS(LeaveTracker[[#This Row],[开始日期]],LeaveTracker[[#This Row],[结束日期]],lstHolidays)","v":2}]
[null,"员工 3",{"$f":"DATE(YEAR(TODAY()),1,18 )","v":"2017-01-18"},{"$f":"DATE(YEAR(TODAY()),1,21)","v":"2017-01-21"},"其他",{"$f":"NETWORKDAYS(LeaveTracker[[#This Row],[开始日期]],LeaveTracker[[#This Row],[结束日期]],lstHolidays)","v":3}]
[null,"员工 5",{"$f":"DATE(YEAR(TODAY())-1,12,10 )","v":"2016-12-10"},{"$f":"DATE(YEAR(TODAY())-1,12,16)","v":"2016-12-16"},"丧假",{"$f":"NETWORKDAYS(LeaveTracker[[#This Row],[开始日期]],LeaveTracker[[#This Row],[结束日期]],lstHolidays)","v":5}]
[null,"员工 4",{"$f":"DATE(YEAR(TODAY())-1,12,1  )","v":"2016-12-01"},{"$f":"DATE(YEAR(TODAY())-1,12,2)","v":"2016-12-02"},"病假",{"$f":"NETWORKDAYS(LeaveTracker[[#This Row],[开始日期]],LeaveTracker[[#This Row],[结束日期]],lstHolidays)","v":2}]
[null,"员工 1",{"$f":"DATE(YEAR(TODAY())-1,11,14  )","v":"2016-11-14"},{"$f":"DATE(YEAR(TODAY())-1,11,18)","v":"2016-11-18"},"假期",{"$f":"NETWORKDAYS(LeaveTracker[[#This Row],[开始日期]],LeaveTracker[[#This Row],[结束日期]],lstHolidays)","v":5}]
[null,"员工 4",{"$f":"DATE(YEAR(TODAY()),1,31 )","v":"2017-01-31"},{"$f":"DATE(YEAR(TODAY()),2,4)","v":"2017-02-04"},"病假",{"$f":"NETWORKDAYS(LeaveTracker[[#This Row],[开始日期]],LeaveTracker[[#This Row],[结束日期]],lstHolidays)","v":4}]
[null,"员工 4",{"$f":"DATE(YEAR(TODAY())-1,12,1  )","v":"2016-12-01"},{"$f":"DATE(YEAR(TODAY())-1,12,6)","v":"2016-12-06"},"其他",{"$f":"NETWORKDAYS(LeaveTracker[[#This Row],[开始日期]],LeaveTracker[[#This Row],[结束日期]],lstHolidays)","v":4}]
[null,"员工 4",{"$f":"DATE(YEAR(TODAY())-1,12,10  )","v":"2016-12-10"},{"$f":"DATE(YEAR(TODAY())-1,12,16)","v":"2016-12-16"},"其他",{"$f":"NETWORKDAYS(LeaveTracker[[#This Row],[开始日期]],LeaveTracker[[#This Row],[结束日期]],lstHolidays)","v":5}]
[null,"员工 2",{"$f":"DATE(YEAR(TODAY()),1,13 )","v":"2017-01-13"},{"$f":"DATE(YEAR(TODAY()),1,15)","v":"2017-01-15"},"病假",{"$f":"NETWORKDAYS(LeaveTracker[[#This Row],[开始日期]],LeaveTracker[[#This Row],[结束日期]],lstHolidays)","v":1}]
[null,"员工 5",{"$f":"DATE(YEAR(TODAY()),1,15 )","v":"2017-01-15"},{"$f":"DATE(YEAR(TODAY()),1,20)","v":"2017-01-20"},"病假",{"$f":"NETWORKDAYS(LeaveTracker[[#This Row],[开始日期]],LeaveTracker[[#This Row],[结束日期]],lstHolidays)","v":5}]
[null,"员工 2",{"$f":"DATE(YEAR(TODAY()),6,13 )","v":"2017-06-13"},{"$f":"DATE(YEAR(TODAY()),6,15)","v":"2017-06-15"},"丧假",{"$f":"NETWORKDAYS(LeaveTracker[[#This Row],[开始日期]],LeaveTracker[[#This Row],[结束日期]],lstHolidays)","v":3}]
[null,"员工 5",{"$f":"DATE(YEAR(TODAY()),1,27 )","v":"2017-01-27"},{"$f":"DATE(YEAR(TODAY()),2,3)","v":"2017-02-03"},"丧假",{"$f":"NETWORKDAYS(LeaveTracker[[#This Row],[开始日期]],LeaveTracker[[#This Row],[结束日期]],lstHolidays)","v":6}]
[null,"员工 3",{"$f":"DATE(YEAR(TODAY()),1,17 )","v":"2017-01-17"},{"$f":"DATE(YEAR(TODAY()),1,18)","v":"2017-01-18"},"假期",{"$f":"NETWORKDAYS(LeaveTracker[[#This Row],[开始日期]],LeaveTracker[[#This Row],[结束日期]],lstHolidays)","v":2}]
[null,"员工 3",{"$f":"DATE(YEAR(TODAY())-1,12,12 )","v":"2016-12-12"},{"$f":"DATE(YEAR(TODAY())-1,12,17)","v":"2016-12-17"},"丧假",{"$f":"NETWORKDAYS(LeaveTracker[[#This Row],[开始日期]],LeaveTracker[[#This Row],[结束日期]],lstHolidays)","v":5}]
[null,"员工 1",{"$f":"DATE(YEAR(TODAY())-1,12,21  )","v":"2016-12-21"},{"$f":"DATE(YEAR(TODAY())-1,12,22)","v":"2016-12-22"},"其他",{"$f":"NETWORKDAYS(LeaveTracker[[#This Row],[开始日期]],LeaveTracker[[#This Row],[结束日期]],lstHolidays)","v":2}]
[null,"员工 1",{"$f":"DATE(YEAR(TODAY())-1,12,14  )","v":"2016-12-14"},{"$f":"DATE(YEAR(TODAY())-1,12,16)","v":"2016-12-16"},"假期",{"$f":"NETWORKDAYS(LeaveTracker[[#This Row],[开始日期]],LeaveTracker[[#This Row],[结束日期]],lstHolidays)","v":3}]
[null,"员工 2",{"$f":"DATE(YEAR(TODAY())-1,11,29  )","v":"2016-11-29"},{"$f":"DATE(YEAR(TODAY())-1,12,6)","v":"2016-12-06"},"丧假",{"$f":"NETWORKDAYS(LeaveTracker[[#This Row],[开始日期]],LeaveTracker[[#This Row],[结束日期]],lstHolidays)","v":6}]
[null,"员工 5",{"$f":"DATE(YEAR(TODAY())-1,12,3  )","v":"2016-12-03"},{"$f":"DATE(YEAR(TODAY())-1,12,7)","v":"2016-12-07"},"假期",{"$f":"NETWORKDAYS(LeaveTracker[[#This Row],[开始日期]],LeaveTracker[[#This Row],[结束日期]],lstHolidays)","v":3}]
[null,"员工 1",{"$f":"DATE(YEAR(TODAY()),1,31 )","v":"2017-01-31"},{"$f":"DATE(YEAR(TODAY()),2,2)","v":"2017-02-02"},"丧假",{"$f":"NETWORKDAYS(LeaveTracker[[#This Row],[开始日期]],LeaveTracker[[#This Row],[结束日期]],lstHolidays)","v":3}]
[null,"员工 1",{"$f":"DATE(YEAR(TODAY())-1,11,24 )","v":"2016-11-24"},{"$f":"DATE(YEAR(TODAY())-1,11,29)","v":"2016-11-29"},"病假",{"$f":"NETWORKDAYS(LeaveTracker[[#This Row],[开始日期]],LeaveTracker[[#This Row],[结束日期]],lstHolidays)","v":4}]
[null,"员工 2",{"$f":"DATE(YEAR(TODAY()),12,5 )","v":"2017-12-05"},{"$f":"DATE(YEAR(TODAY()),12,9)","v":"2017-12-09"},"假期",{"$f":"NETWORKDAYS(LeaveTracker[[#This Row],[开始日期]],LeaveTracker[[#This Row],[结束日期]],lstHolidays)","v":4}]
[null,"员工 5",{"$f":"DATE(YEAR(TODAY()),4,11 )","v":"2017-04-11"},{"$f":"DATE(YEAR(TODAY()),4,19)","v":"2017-04-19"},"假期",{"$f":"NETWORKDAYS(LeaveTracker[[#This Row],[开始日期]],LeaveTracker[[#This Row],[结束日期]],lstHolidays)","v":7}]

{"sheet":"员工名单","index":2,"n_rows":8,"n_cols":2,"rows_kept":8,"cut":false,"hidden":false,"merged":[]}
[null,"员工名单"]
[]
[null,"员工姓名"]
[null,"员工 1"]
[null,"员工 2"]
[null,"员工 3"]
[null,"员工 4"]
[null,"员工 5"]

{"sheet":"休假类型","index":3,"n_rows":7,"n_cols":2,"rows_kept":7,"cut":false,"hidden":false,"merged":[]}
[null,"休假类型"]
[]
[null,"休假类型列表"]
[null,"病假"]
[null,"假期"]
[null,"丧假"]
[null,"其他"]

{"sheet":"公司假期","index":4,"n_rows":9,"n_cols":3,"rows_kept":9,"cut":false,"hidden":false,"merged":[]}
[null,"公司假期"]
[]
[null,"公司假期","说明"]
[null,{"$f":"DATE(YEAR(TODAY()),1,1)","v":"2017-01-01"},"元旦"]
[null,{"$f":"DATE(YEAR(TODAY()),7,4)","v":"2017-07-04"},"独立日"]
[null,{"$f":"DATE(YEAR(TODAY()),11,24)","v":"2017-11-24"},"感恩节"]
[null,{"$f":"DATE(YEAR(TODAY()),11,25)","v":"2017-11-25"},"感恩节"]
[null,{"$f":"DATE(YEAR(TODAY()),12,24)","v":"2017-12-24"},"圣诞节"]
[null,{"$f":"DATE(YEAR(TODAY()),12,25)","v":"2017-12-25"},"圣诞节"]